BEGIN:VCALENDAR
VERSION:2.0
PRODID:-//Ritmo con Señas - Germany - ECPv6.15.20//NONSGML v1.0//EN
CALSCALE:GREGORIAN
METHOD:PUBLISH
X-WR-CALNAME:Ritmo con Señas - Germany
X-ORIGINAL-URL:https://ritmo-con-senas.de
X-WR-CALDESC:Events for Ritmo con Señas - Germany
REFRESH-INTERVAL;VALUE=DURATION:PT1H
X-Robots-Tag:noindex
X-PUBLISHED-TTL:PT1H
BEGIN:VTIMEZONE
TZID:Europe/Berlin
BEGIN:DAYLIGHT
TZOFFSETFROM:+0100
TZOFFSETTO:+0200
TZNAME:CEST
DTSTART:20230326T010000
END:DAYLIGHT
BEGIN:STANDARD
TZOFFSETFROM:+0200
TZOFFSETTO:+0100
TZNAME:CET
DTSTART:20231029T010000
END:STANDARD
BEGIN:DAYLIGHT
TZOFFSETFROM:+0100
TZOFFSETTO:+0200
TZNAME:CEST
DTSTART:20240331T010000
END:DAYLIGHT
BEGIN:STANDARD
TZOFFSETFROM:+0200
TZOFFSETTO:+0100
TZNAME:CET
DTSTART:20241027T010000
END:STANDARD
BEGIN:DAYLIGHT
TZOFFSETFROM:+0100
TZOFFSETTO:+0200
TZNAME:CEST
DTSTART:20250330T010000
END:DAYLIGHT
BEGIN:STANDARD
TZOFFSETFROM:+0200
TZOFFSETTO:+0100
TZNAME:CET
DTSTART:20251026T010000
END:STANDARD
END:VTIMEZONE
BEGIN:VEVENT
DTSTART;VALUE=DATE:20240828
DTEND;VALUE=DATE:20240902
DTSTAMP:20260425T210952
CREATED:20230913T024336Z
LAST-MODIFIED:20240512T071730Z
UID:1724-1724803200-1725235199@ritmo-con-senas.de
SUMMARY:5° Incontro Italiano di Ritmo con Segni
DESCRIPTION:  \nLinks \n\nRegistration\n\nWhat is included?\n\n\nInstagramm
URL:https://ritmo-con-senas.de/event/5-incontro-italiano-di-ritmo-con-segni
LOCATION:Il Cerquosino\, San Faustino 22\, Orvieto\, TR\, 05018\, Italy
CATEGORIES:Concert,English,Gonzalo Teijeiro,Highlight,Italian,Italy,Jam,Michele Braguti,Networking,Nikolai von Krusenstiern,Santiago Vazquez,Special,Workshop
ATTACH;FMTTYPE=image/jpeg:https://ritmo-con-senas.de/wp-content/uploads/2023/09/5-Incontro-Italiano-di-Rimo-con-Segni.jpg
ORGANIZER;CN="Orchestra Improvvisata":MAILTO:ochestra improvata@gmail.com
END:VEVENT
END:VCALENDAR